1
0
-0
-1
1818958.5
3199310.5
