1
0
-0
-1
1802554.5
3199310.5
