1
0
-0
-1
2015806.5
3182906.5
