1
0
-0
-1
1605706.5
3150098.5
