1.0000000000
0.0000000000
0.0000000000
-1.0000000000
1589302.5000000000
2953250.5000000000
