1.0000000000
0.0000000000
0.0000000000
-1.0000000000
1556494.5000000000
2936846.5000000000
