1.0000000000
0.0000000000
0.0000000000
-1.0000000000
1523686.5000000000
2887634.5000000000
