1
0
-0
-1
1654918.5
2936846.5
