1
0
-0
-1
1622110.5
2936846.5
