1
0
-0
-1
1605706.5
2936846.5
