1
0
-0
-1
1572898.5
2904038.5
