1
0
-0
-1
1638514.5
2887634.5
