<VRTDataset rasterXSize="756000" rasterYSize="396000"> <SRS dataAxisToSRSAxisMapping="1,2">PROJCS["NAD83(2011) / UTM zone 18N",GEOGCS["NAD83(2011)",DATUM["NAD83_National_Spatial_Reference_System_2011",SPHEROID["GRS 1980",6378137,298.257222101,AUTHORITY["EPSG","7019"]],AUTHORITY["EPSG","1116"]],PRIMEM["Greenwich",0,AUTHORITY["EPSG","8901"]],UNIT["degree",0.0174532925199433,AUTHORITY["EPSG","9122"]],AUTHORITY["EPSG","6318"]],PROJECTION["Transverse_Mercator"],PARAMETER["latitude_of_origin",0],PARAMETER["central_meridian",-75],PARAMETER["scale_factor",0.9996],PARAMETER["false_easting",500000],PARAMETER["false_northing",0],UNIT["metre",1,AUTHORITY["EPSG","9001"]],AXIS["Easting",EAST],AXIS["Northing",NORTH],AUTHORITY["EPSG","6347"]]</SRS> <GeoTransform> 5.8630000000000000e+05, 2.5000000000000000e-01, 0.0000000000000000e+00, 4.6054000000000000e+06, 0.0000000000000000e+00, -2.5000000000000000e-01</GeoTransform> <VRTRasterBand dataType="Byte" band="1"> <ColorInterp>Red</ColorInterp> <SimpleSource> <SourceFilename relativeToVRT="1">./2023_586300e_4515400n_orthomosaic.tif</SourceFilename> <SourceBand>1</SourceBand> <SourceProperties RasterXSize="12000" RasterYSize="12000" DataType="Byte" BlockXSize="512" BlockYSize="512" /> <SrcRect xOff="0" yOff="0" xSize="12000" ySize="12000" /> <DstRect xOff="0" yOff="360000" xSize="12000" ySize="12000" /> </SimpleSource> <SimpleSource> <SourceFilename relativeToVRT="1">./2023_586300e_4518400n_orthomosaic.tif</SourceFilename> <SourceBand>1</SourceBand> <SourceProperties RasterXSize="12000" RasterYSize="12000" DataType="Byte" BlockXSize="512" BlockYSize="512" /> <SrcRect xOff="0" yOff="0" xSize="12000" ySize="12000" /> <DstRect xOff="0" yOff="348000" xSize="12000" ySize="12000" /> </SimpleSource> <SimpleSource> <SourceFilename relativeToVRT="1">./2023_586300e_4521400n_orthomosaic.tif</SourceFilename> <SourceBand>1</SourceBand> <SourceProperties RasterXSize="12000" RasterYSize="12000" DataType="Byte" BlockXSize="512" BlockYSize="512" /> <SrcRect xOff="0" yOff="0" xSize="12000" ySize="12000" /> <DstRect xOff="0" yOff="336000" xSize="12000" ySize="12000" /> </SimpleSource> <SimpleSource> <SourceFilename relativeToVRT="1">./2023_586300e_4524400n_orthomosaic.tif</SourceFilename> <SourceBand>1</SourceBand> <SourceProperties RasterXSize="12000" RasterYSize="12000" DataType="Byte" BlockXSize="512" BlockYSize="512" /> <SrcRect xOff="0" yOff="0" xSize="12000" ySize="12000" /> <DstRect xOff="0" yOff="324000" xSize="12000" ySize="12000" /> </SimpleSource> <SimpleSource> <SourceFilename relativeToVRT="1">./2023_589300e_4512400n_orthomosaic.tif</SourceFilename> <SourceBand>1</SourceBand> <SourceProperties RasterXSize="12000" RasterYSize="12000" DataType="Byte" BlockXSize="512" BlockYSize="512" /> <SrcRect xOff="0" yOff="0" xSize="12000" ySize="12000" /> <DstRect xOff="12000" yOff="372000" xSize="12000" ySize="12000" /> </SimpleSource> <SimpleSource> <SourceFilename relativeToVRT="1">./2023_589300e_4515400n_orthomosaic.tif</SourceFilename> <SourceBand>1</SourceBand> <SourceProperties RasterXSize="12000" RasterYSize="12000" DataType="Byte" BlockXSize="512" BlockYSize="512" /> <SrcRect xOff="0" yOff="0" xSize="12000" ySize="12000" /> <DstRect xOff="12000" yOff="360000" xSize="12000" ySize="12000" /> </SimpleSource> <SimpleSource> <SourceFilename relativeToVRT="1">./2023_589300e_4518400n_orthomosaic.tif</SourceFilename> <SourceBand>1</SourceBand> <SourceProperties RasterXSize="12000" RasterYSize="12000" DataType="Byte" BlockXSize="512" BlockYSize="512" /> <SrcRect xOff="0" yOff="0" xSize="12000" ySize="12000" /> <DstRect xOff="12000" yOff="348000" xSize="12000" ySize="12000" /> </SimpleSource> <SimpleSource> <SourceFilename relativeToVRT="1">./2023_589300e_4521400n_orthomosaic.tif</SourceFilename> <SourceBand>1</SourceBand> <SourceProperties RasterXSize="12000" RasterYSize="12000" DataType="Byte" BlockXSize="512" BlockYSize="512" /> <SrcRect xOff="0" yOff="0" xSize="12000" ySize="12000" /> <DstRect xOff="12000" yOff="336000" xSize="12000" ySize="12000" /> </SimpleSource> <SimpleSource> <SourceFilename relativeToVRT="1">./2023_589300e_4524400n_orthomosaic.tif</SourceFilename> <SourceBand>1</SourceBand> <SourceProperties RasterXSize="12000" RasterYSize="12000" DataType="Byte" BlockXSize="512" BlockYSize="512" /> <SrcRect xOff="0" yOff="0" xSize="12000" ySize="12000" /> <DstRect xOff="12000" yOff="324000" xSize="12000" ySize="12000" /> </SimpleSource> <SimpleSource> <SourceFilename relativeToVRT="1">./2023_589300e_4527400n_orthomosaic.tif</SourceFilename> <SourceBand>1</SourceBand> <SourceProperties RasterXSize="12000" RasterYSize="12000" DataType="Byte" BlockXSize="512" BlockYSize="512" /> <SrcRect xOff="0" yOff="0" xSize="12000" ySize="12000" /> <DstRect xOff="12000" yOff="312000" xSize="12000" ySize="12000" /> </SimpleSource> <SimpleSource> <SourceFilename relativeToVRT="1">./2023_592300e_4509400n_orthomosaic.tif</SourceFilename> <SourceBand>1</SourceBand> <SourceProperties RasterXSize="12000" RasterYSize="12000" DataType="Byte" BlockXSize="512" BlockYSize="512" /> <SrcRect xOff="0" yOff="0" xSize="12000" ySize="12000" /> <DstRect xOff="24000" yOff="384000" xSize="12000" ySize="12000" /> </SimpleSource> <SimpleSource> <SourceFilename relativeToVRT="1">./2023_592300e_4512400n_orthomosaic.tif</SourceFilename> <SourceBand>1</SourceBand> <SourceProperties RasterXSize="12000" RasterYSize="12000" DataType="Byte" BlockXSize="512" BlockYSize="512" /> <SrcRect xOff="0" yOff="0" xSize="12000" ySize="12000" /> <DstRect xOff="24000" yOff="372000" xSize="12000" ySize="12000" /> </SimpleSource> <SimpleSource> <SourceFilename relativeToVRT="1">./2023_592300e_4515400n_orthomosaic.tif</SourceFilename> <SourceBand>1</SourceBand> <SourceProperties RasterXSize="12000" RasterYSize="12000" DataType="Byte" BlockXSize="512" BlockYSize="512" /> <SrcRect xOff="0" yOff="0" xSize="12000" ySize="12000" /> <DstRect xOff="24000" yOff="360000" xSize="12000" ySize="12000" /> </SimpleSource> <SimpleSource> <SourceFilename relativeToVRT="1">./2023_592300e_4518400n_orthomosaic.tif</SourceFilename> <SourceBand>1</SourceBand> <SourceProperties RasterXSize="12000" RasterYSize="12000" DataType="Byte" BlockXSize="512" BlockYSize="512" /> <SrcRect xOff="0" yOff="0" xSize="12000" ySize="12000" /> <DstRect xOff="24000" yOff="348000" xSize="12000" ySize="12000" /> </SimpleSource> <SimpleSource> <SourceFilename relativeToVRT="1">./2023_592300e_4521400n_orthomosaic.tif</SourceFilename> <SourceBand>1</SourceBand> <SourceProperties RasterXSize="12000" RasterYSize="12000" DataType="Byte" BlockXSize="512" BlockYSize="512" /> <SrcRect xOff="0" yOff="0" xSize="12000" ySize="12000" /> <DstRect xOff="24000" yOff="336000" xSize="12000" ySize="12000" /> </SimpleSource> <SimpleSource> <SourceFilename relativeToVRT="1">./2023_592300e_4524400n_orthomosaic.tif</SourceFilename> <SourceBand>1</SourceBand> <SourceProperties RasterXSize="12000" RasterYSize="12000" DataType="Byte" BlockXSize="512" BlockYSize="512" /> <SrcRect xOff="0" yOff="0" xSize="12000" ySize="12000" /> <DstRect xOff="24000" yOff="324000" xSize="12000" ySize="12000" /> </SimpleSource> <SimpleSource> <SourceFilename relativeToVRT="1">./2023_592300e_4527400n_orthomosaic.tif</SourceFilename> <SourceBand>1</SourceBand> <SourceProperties RasterXSize="12000" RasterYSize="12000" DataType="Byte" BlockXSize="512" BlockYSize="512" /> <SrcRect xOff="0" yOff="0" xSize="12000" ySize="12000" /> <DstRect xOff="24000" yOff="312000" xSize="12000" ySize="12000" /> </SimpleSource> <SimpleSource> <SourceFilename relativeToVRT="1">./2023_592300e_4530400n_orthomosaic.tif</SourceFilename> <SourceBand>1</SourceBand> <SourceProperties RasterXSize="12000" RasterYSize="12000" DataType="Byte" BlockXSize="512" BlockYSize="512" /> <SrcRect xOff="0" yOff="0" xSize="12000" ySize="12000" /> <DstRect xOff="24000" yOff="300000" xSize="12000" ySize="12000" /> </SimpleSource> <SimpleSource> <SourceFilename relativeToVRT="1">./2023_592300e_4533400n_orthomosaic.tif</SourceFilename> <SourceBand>1</SourceBand> <SourceProperties RasterXSize="12000" RasterYSize="12000" DataType="Byte" BlockXSize="512" BlockYSize="512" /> <SrcRect xOff="0" yOff="0" xSize="12000" ySize="12000" /> <DstRect xOff="24000" yOff="288000" xSize="12000" ySize="12000" /> </SimpleSource> <SimpleSource> <SourceFilename relativeToVRT="1">./2023_595300e_4509400n_orthomosaic.tif</SourceFilename> <SourceBand>1</SourceBand> <SourceProperties RasterXSize="12000" RasterYSize="12000" DataType="Byte" BlockXSize="512" BlockYSize="512" /> <SrcRect xOff="0" yOff="0" xSize="12000" ySize="12000" /> <DstRect xOff="36000" yOff="384000" xSize="12000" ySize="12000" /> </SimpleSource> <SimpleSource> <SourceFilename relativeToVRT="1">./2023_595300e_4512400n_orthomosaic.tif</SourceFilename> <SourceBand>1</SourceBand> <SourceProperties RasterXSize="12000" RasterYSize="12000" DataType="Byte" BlockXSize="512" BlockYSize="512" /> <SrcRect xOff="0" yOff="0" xSize="12000" ySize="12000" /> <DstRect xOff="36000" yOff="372000" xSize="12000" ySize="12000" /> </SimpleSource> <SimpleSource> <SourceFilename relativeToVRT="1">./2023_595300e_4515400n_orthomosaic.tif</SourceFilename> <SourceBand>1</SourceBand> <SourceProperties RasterXSize="12000" RasterYSize="12000" DataType="Byte" BlockXSize="512" BlockYSize="512" /> <SrcRect xOff="0" yOff="0" xSize="12000" ySize="12000" /> <DstRect xOff="36000" yOff="360000" xSize="12000" ySize="12000" /> </SimpleSource> <SimpleSource> <SourceFilename relativeToVRT="1">./2023_595300e_4518400n_orthomosaic.tif</SourceFilename> <SourceBand>1</SourceBand> <SourceProperties RasterXSize="12000" RasterYSize="12000" DataType="Byte" BlockXSize="512" BlockYSize="512" /> <SrcRect xOff="0" yOff="0" xSize="12000" ySize="12000" /> <DstRect xOff="36000" yOff="348000" xSize="12000" ySize="12000" /> </SimpleSource> <SimpleSource> <SourceFilename relativeToVRT="1">./2023_595300e_4521400n_orthomosaic.tif</SourceFilename> <SourceBand>1</SourceBand> <SourceProperties RasterXSize="12000" RasterYSize="12000" DataType="Byte" BlockXSize="512" BlockYSize="512" /> <SrcRect xOff="0" yOff="0" xSize="12000" ySize="12000" /> <DstRect xOff="36000" yOff="336000" xSize="12000" ySize="12000" /> </SimpleSource> <SimpleSource> <SourceFilename relativeToVRT="1">./2023_595300e_4524400n_orthomosaic.tif</SourceFilename> <SourceBand>1</SourceBand> <SourceProperties RasterXSize="12000" RasterYSize="12000" DataType="Byte" BlockXSize="512" BlockYSize="512" /> <SrcRect xOff="0" yOff="0" xSize="12000" ySize="12000" /> <DstRect xOff="36000" yOff="324000" xSize="12000" ySize="12000" /> </SimpleSource> <SimpleSource> <SourceFilename relativeToVRT="1">./2023_595300e_4527400n_orthomosaic.tif</SourceFilename> <SourceBand>1</SourceBand> <SourceProperties RasterXSize="12000" RasterYSize="12000" DataType="Byte" BlockXSize="512" BlockYSize="512" /> <SrcRect xOff="0" yOff="0" xSize="12000" ySize="12000" /> <DstRect xOff="36000" yOff="312000" xSize="12000" ySize="12000" /> </SimpleSource> <SimpleSource> <SourceFilename relativeToVRT="1">./2023_595300e_4530400n_orthomosaic.tif</SourceFilename> <SourceBand>1</SourceBand> <SourceProperties RasterXSize="12000" RasterYSize="12000" DataType="Byte" BlockXSize="512" BlockYSize="512" /> <SrcRect xOff="0" yOff="0" xSize="12000" ySize="12000" /> <DstRect xOff="36000" yOff="300000" xSize="12000" ySize="12000" /> </SimpleSource> <SimpleSource> <SourceFilename relativeToVRT="1">./2023_595300e_4533400n_orthomosaic.tif</SourceFilename> <SourceBand>1</SourceBand> <SourceProperties RasterXSize="12000" RasterYSize="12000" DataType="Byte" BlockXSize="512" BlockYSize="512" /> <SrcRect xOff="0" yOff="0" xSize="12000" ySize="12000" /> <DstRect xOff="36000" yOff="288000" xSize="12000" ySize="12000" /> </SimpleSource> <SimpleSource> <SourceFilename relativeToVRT="1">./2023_595300e_4536400n_orthomosaic.tif</SourceFilename> <SourceBand>1</SourceBand> <SourceProperties RasterXSize="12000" RasterYSize="12000" DataType="Byte" BlockXSize="512" BlockYSize="512" /> <SrcRect xOff="0" yOff="0" xSize="12000" ySize="12000" /> <DstRect xOff="36000" yOff="276000" xSize="12000" ySize="12000" /> </SimpleSource> <SimpleSource> <SourceFilename relativeToVRT="1">./2023_598300e_4509400n_orthomosaic.tif</SourceFilename> <SourceBand>1</SourceBand> <SourceProperties RasterXSize="12000" RasterYSize="12000" DataType="Byte" BlockXSize="512" BlockYSize="512" /> <SrcRect xOff="0" yOff="0" xSize="12000" ySize="12000" /> <DstRect xOff="48000" yOff="384000" xSize="12000" ySize="12000" /> </SimpleSource> <SimpleSource> <SourceFilename relativeToVRT="1">./2023_598300e_4512400n_orthomosaic.tif</SourceFilename> <SourceBand>1</SourceBand> <SourceProperties RasterXSize="12000" RasterYSize="12000" DataType="Byte" BlockXSize="512" BlockYSize="512" /> <SrcRect xOff="0" yOff="0" xSize="12000" ySize="12000" /> <DstRect xOff="48000" yOff="372000" xSize="12000" ySize="12000" /> </SimpleSource> <SimpleSource> <SourceFilename relativeToVRT="1">./2023_598300e_4515400n_orthomosaic.tif</SourceFilename> <SourceBand>1</SourceBand> <SourceProperties RasterXSize="12000" RasterYSize="12000" DataType="Byte" BlockXSize="512" BlockYSize="512" /> <SrcRect xOff="0" yOff="0" xSize="12000" ySize="12000" /> <DstRect xOff="48000" yOff="360000" xSize="12000" ySize="12000" /> </SimpleSource> <SimpleSource> <SourceFilename relativeToVRT="1">./2023_598300e_4518400n_orthomosaic.tif</SourceFilename> <SourceBand>1</SourceBand> <SourceProperties RasterXSize="12000" RasterYSize="12000" DataType="Byte" BlockXSize="512" BlockYSize="512" /> <SrcRect xOff="0" yOff="0" xSize="12000" ySize="12000" /> <DstRect xOff="48000" yOff="348000" xSize="12000" ySize="12000" /> </SimpleSource> <SimpleSource> <SourceFilename relativeToVRT="1">./2023_598300e_4521400n_orthomosaic.tif</SourceFilename> <SourceBand>1</SourceBand> <SourceProperties RasterXSize="12000" RasterYSize="12000" DataType="Byte" BlockXSize="512" BlockYSize="512" /> <SrcRect xOff="0" yOff="0" xSize="12000" ySize="12000" /> <DstRect xOff="48000" yOff="336000" xSize="12000" ySize="12000" /> </SimpleSource> <SimpleSource> <SourceFilename relativeToVRT="1">./2023_598300e_4524400n_orthomosaic.tif</SourceFilename> <SourceBand>1</SourceBand> <SourceProperties RasterXSize="12000" RasterYSize="12000" DataType="Byte" BlockXSize="512" BlockYSize="512" /> <SrcRect xOff="0" yOff="0" xSize="12000" ySize="12000" /> <DstRect xOff="48000" yOff="324000" xSize="12000" ySize="12000" /> </SimpleSource> <SimpleSource> <SourceFilename relativeToVRT="1">./2023_598300e_4527400n_orthomosaic.tif</SourceFilename> <SourceBand>1</SourceBand> <SourceProperties RasterXSize="12000" RasterYSize="12000" DataType="Byte" BlockXSize="512" BlockYSize="512" /> <SrcRect xOff="0" yOff="0" xSize="12000" ySize="12000" /> <DstRect xOff="48000" yOff="312000" xSize="12000" ySize="12000" /> </SimpleSource> <SimpleSource> <SourceFilename relativeToVRT="1">./2023_598300e_4530400n_orthomosaic.tif</SourceFilename> <SourceBand>1</SourceBand> <SourceProperties RasterXSize="12000" RasterYSize="12000" DataType="Byte" BlockXSize="512" BlockYSize="512" /> <SrcRect xOff="0" yOff="0" xSize="12000" ySize="12000" /> <DstRect xOff="48000" yOff="300000" xSize="12000" ySize="12000" /> </SimpleSource> <SimpleSource> <SourceFilename relativeToVRT="1">./2023_598300e_4533400n_orthomosaic.tif</SourceFilename> <SourceBand>1</SourceBand> <SourceProperties RasterXSize="12000" RasterYSize="12000" DataType="Byte" BlockXSize="512" BlockYSize="512" /> <SrcRect xOff="0" yOff="0" xSize="12000" ySize="12000" /> <DstRect xOff="48000" yOff="288000" xSize="12000" ySize="12000" /> </SimpleSource> <SimpleSource> <SourceFilename relativeToVRT="1">./2023_598300e_4536400n_orthomosaic.tif</SourceFilename> <SourceBand>1</SourceBand> <SourceProperties RasterXSize="12000" RasterYSize="12000" DataType="Byte" BlockXSize="512" BlockYSize="512" /> <SrcRect xOff="0" yOff="0" xSize="12000" ySize="12000" /> <DstRect xOff="48000" yOff="276000" xSize="12000" ySize="12000" /> </SimpleSource> <SimpleSource> <SourceFilename relativeToVRT="1">./2023_601300e_4509400n_orthomosaic.tif</SourceFilename> <SourceBand>1</SourceBand> <SourceProperties RasterXSize="12000" RasterYSize="12000" DataType="Byte" BlockXSize="512" BlockYSize="512" /> <SrcRect xOff="0" yOff="0" xSize="12000" ySize="12000" /> <DstRect xOff="60000" yOff="384000" xSize="12000" ySize="12000" /> </SimpleSource> <SimpleSource> <SourceFilename relativeToVRT="1">./2023_601300e_4512400n_orthomosaic.tif</SourceFilename> <SourceBand>1</SourceBand> <SourceProperties RasterXSize="12000" RasterYSize="12000" DataType="Byte" BlockXSize="512" BlockYSize="512" /> <SrcRect xOff="0" yOff="0" xSize="12000" ySize="12000" /> <DstRect xOff="60000" yOff="372000" xSize="12000" ySize="12000" /> </SimpleSource> <SimpleSource> <SourceFilename relativeToVRT="1">./2023_601300e_4515400n_orthomosaic.tif</SourceFilename> <SourceBand>1</SourceBand> <SourceProperties RasterXSize="12000" RasterYSize="12000" DataType="Byte" BlockXSize="512" BlockYSize="512" /> <SrcRect xOff="0" yOff="0" xSize="12000" ySize="12000" /> <DstRect xOff="60000" yOff="360000" xSize="12000" ySize="12000" /> </SimpleSource> <SimpleSource> <SourceFilename relativeToVRT="1">./2023_601300e_4518400n_orthomosaic.tif</SourceFilename> <SourceBand>1</SourceBand> <SourceProperties RasterXSize="12000" RasterYSize="12000" DataType="Byte" BlockXSize="512" BlockYSize="512" /> <SrcRect xOff="0" yOff="0" xSize="12000" ySize="12000" /> <DstRect xOff="60000" yOff="348000" xSize="12000" ySize="12000" /> </SimpleSource> <SimpleSource> <SourceFilename relativeToVRT="1">./2023_601300e_4521400n_orthomosaic.tif</SourceFilename> <SourceBand>1</SourceBand> <SourceProperties RasterXSize="12000" RasterYSize="12000" DataType="Byte" BlockXSize="512" BlockYSize="512" /> <SrcRect xOff="0" yOff="0" xSize="12000" ySize="12000" /> <DstRect xOff="60000" yOff="336000" xSize="12000" ySize="12000" /> </SimpleSource> <SimpleSource> <SourceFilename relativeToVRT="1">./2023_601300e_4524400n_orthomosaic.tif</SourceFilename> <SourceBand>1</SourceBand> <SourceProperties RasterXSize="12000" RasterYSize="12000" DataType="Byte" BlockXSize="512" BlockYSize="512" /> <SrcRect xOff="0" yOff="0" xSize="12000" ySize="12000" /> <DstRect xOff="60000" yOff="324000" xSize="12000" ySize="12000" /> </SimpleSource> <SimpleSource> <SourceFilename relativeToVRT="1">./2023_601300e_4527400n_orthomosaic.tif</SourceFilename> <SourceBand>1</SourceBand> <SourceProperties RasterXSize="12000" RasterYSize="12000" DataType="Byte" BlockXSize="512" BlockYSize="512" /> <SrcRect xOff="0" yOff="0" xSize="12000" ySize="12000" /> <DstRect xOff="60000" yOff="312000" xSize="12000" ySize="12000" /> </SimpleSource> <SimpleSource> <SourceFilename relativeToVRT="1">./2023_601300e_4530400n_orthomosaic.tif</SourceFilename> <SourceBand>1</SourceBand> <SourceProperties RasterXSize="12000" RasterYSize="12000" DataType="Byte" BlockXSize="512" BlockYSize="512" /> <SrcRect xOff="0" yOff="0" xSize="12000" ySize="12000" /> <DstRect xOff="60000" yOff="300000" xSize="12000" ySize="12000" /> </SimpleSource> <SimpleSource> <SourceFilename relativeToVRT="1">./2023_616300e_4545400n_orthomosaic.tif</SourceFilename> <SourceBand>1</SourceBand> <SourceProperties RasterXSize="12000" RasterYSize="12000" DataType="Byte" BlockXSize="512" BlockYSize="512" /> <SrcRect xOff="0" yOff="0" xSize="12000" ySize="12000" /> <DstRect xOff="120000" yOff="240000" xSize="12000" ySize="12000" /> </SimpleSource> <SimpleSource> <SourceFilename relativeToVRT="1">./2023_619300e_4539400n_orthomosaic.tif</SourceFilename> <SourceBand>1</SourceBand> <SourceProperties RasterXSize="12000" RasterYSize="12000" DataType="Byte" BlockXSize="512" BlockYSize="512" /> <SrcRect xOff="0" yOff="0" xSize="12000" ySize="12000" /> <DstRect xOff="132000" yOff="264000" xSize="12000" ySize="12000" /> </SimpleSource> <SimpleSource> <SourceFilename relativeToVRT="1">./2023_601300e_4533400n_orthomosaic.tif</SourceFilename> <SourceBand>1</SourceBand> <SourceProperties RasterXSize="12000" RasterYSize="12000" DataType="Byte" BlockXSize="512" BlockYSize="512" /> <SrcRect xOff="0" yOff="0" xSize="12000" ySize="12000" /> <DstRect xOff="60000" yOff="288000" xSize="12000" ySize="12000" /> </SimpleSource> <SimpleSource> <SourceFilename relativeToVRT="1">./2023_601300e_4536400n_orthomosaic.tif</SourceFilename> <SourceBand>1</SourceBand> <SourceProperties RasterXSize="12000" RasterYSize="12000" DataType="Byte" BlockXSize="512" BlockYSize="512" /> <SrcRect xOff="0" yOff="0" xSize="12000" ySize="12000" /> <DstRect xOff="60000" yOff="276000" xSize="12000" ySize="12000" /> </SimpleSource> <SimpleSource> <SourceFilename relativeToVRT="1">./2023_601300e_4539400n_orthomosaic.tif</SourceFilename> <SourceBand>1</SourceBand> <SourceProperties RasterXSize="12000" RasterYSize="12000" DataType="Byte" BlockXSize="512" BlockYSize="512" /> <SrcRect xOff="0" yOff="0" xSize="12000" ySize="12000" /> <DstRect xOff="60000" yOff="264000" xSize="12000" ySize="12000" /> </SimpleSource> <SimpleSource> <SourceFilename relativeToVRT="1">./2023_604300e_4512400n_orthomosaic.tif</SourceFilename> <SourceBand>1</SourceBand> <SourceProperties RasterXSize="12000" RasterYSize="12000" DataType="Byte" BlockXSize="512" BlockYSize="512" /> <SrcRect xOff="0" yOff="0" xSize="12000" ySize="12000" /> <DstRect xOff="72000" yOff="372000" xSize="12000" ySize="12000" /> </SimpleSource> <SimpleSource> <SourceFilename relativeToVRT="1">./2023_604300e_4515400n_orthomosaic.tif</SourceFilename> <SourceBand>1</SourceBand> <SourceProperties RasterXSize="12000" RasterYSize="12000" DataType="Byte" BlockXSize="512" BlockYSize="512" /> <SrcRect xOff="0" yOff="0" xSize="12000" ySize="12000" /> <DstRect xOff="72000" yOff="360000" xSize="12000" ySize="12000" /> </SimpleSource> <SimpleSource> <SourceFilename relativeToVRT="1">./2023_604300e_4518400n_orthomosaic.tif</SourceFilename> <SourceBand>1</SourceBand> <SourceProperties RasterXSize="12000" RasterYSize="12000" DataType="Byte" BlockXSize="512" BlockYSize="512" /> <SrcRect xOff="0" yOff="0" xSize="12000" ySize="12000" /> <DstRect xOff="72000" yOff="348000" xSize="12000" ySize="12000" /> </SimpleSource> <SimpleSource> <SourceFilename relativeToVRT="1">./2023_604300e_4521400n_orthomosaic.tif</SourceFilename> <SourceBand>1</SourceBand> <SourceProperties RasterXSize="12000" RasterYSize="12000" DataType="Byte" BlockXSize="512" BlockYSize="512" /> <SrcRect xOff="0" yOff="0" xSize="12000" ySize="12000" /> <DstRect xOff="72000" yOff="336000" xSize="12000" ySize="12000" /> </SimpleSource> <SimpleSource> <SourceFilename relativeToVRT="1">./2023_604300e_4524400n_orthomosaic.tif</SourceFilename> <SourceBand>1</SourceBand> <SourceProperties RasterXSize="12000" RasterYSize="12000" DataType="Byte" BlockXSize="512" BlockYSize="512" /> <SrcRect xOff="0" yOff="0" xSize="12000" ySize="12000" /> <DstRect xOff="72000" yOff="324000" xSize="12000" ySize="12000" /> </SimpleSource> <SimpleSource> <SourceFilename relativeToVRT="1">./2023_604300e_4527400n_orthomosaic.tif</SourceFilename> <SourceBand>1</SourceBand> <SourceProperties RasterXSize="12000" RasterYSize="12000" DataType="Byte" BlockXSize="512" BlockYSize="512" /> <SrcRect xOff="0" yOff="0" xSize="12000" ySize="12000" /> <DstRect xOff="72000" yOff="312000" xSize="12000" ySize="12000" /> </SimpleSource> <SimpleSource> <SourceFilename relativeToVRT="1">./2023_604300e_4530400n_orthomosaic.tif</SourceFilename> <SourceBand>1</SourceBand> <SourceProperties RasterXSize="12000" RasterYSize="12000" DataType="Byte" BlockXSize="512" BlockYSize="512" /> <SrcRect xOff="0" yOff="0" xSize="12000" ySize="12000" /> <DstRect xOff="72000" yOff="300000" xSize="12000" ySize="12000" /> </SimpleSource> <SimpleSource> <SourceFilename relativeToVRT="1">./2023_604300e_4533400n_orthomosaic.tif</SourceFilename> <SourceBand>1</SourceBand> <SourceProperties RasterXSize="12000" RasterYSize="12000" DataType="Byte" BlockXSize="512" BlockYSize="512" /> <SrcRect xOff="0" yOff="0" xSize="12000" ySize="12000" /> <DstRect