0.25
0
0
-0.25
763300.125
4584399.875
