0.25
0
0
-0.25
757300.125
4584399.875
