0.25
0
0
-0.25
754300.125
4590399.875
