0.25
0
0
-0.25
745300.125
4590399.875
