0.25
0
0
-0.25
742300.125
4596399.875
