0.25
0
0
-0.25
736300.125
4605399.875
