0.25
0
0
-0.25
736300.125
4575399.875
