0.25
0
0
-0.25
727300.125
4587399.875
