0.25
0
0
-0.25
727300.125
4557399.875
