0.25
0
0
-0.25
724300.125
4581399.875
