0.25
0
0
-0.25
721300.125
4593399.875
