0.25
0
0
-0.25
718300.125
4554399.875
