0.25
0
0
-0.25
715300.125
4542399.875
