0.25
0
0
-0.25
712300.125
4590399.875
