0.25
0
0
-0.25
709300.125
4578399.875
