0.25
0
0
-0.25
706300.125
4575399.875
