0.25
0
0
-0.25
703300.125
4545399.875
