0.25
0
0
-0.25
697300.125
4569399.875
