0.25
0
0
-0.25
694300.125
4539399.875
