0.25
0
0
-0.25
670300.125
4533399.875
