0.25
0
0
-0.25
667300.125
4530399.875
