0.25
0
0
-0.25
664300.125
4560399.875
