0.25
0
0
-0.25
661300.125
4551399.875
