0.25
0
0
-0.25
658300.125
4563399.875
