0.25
0
0
-0.25
655300.125
4542399.875
