0.25
0
0
-0.25
652300.125
4542399.875
