0.25
0
0
-0.25
649300.125
4551399.875
