0.25
0
0
-0.25
646300.125
4566399.875
