0.25
0
0
-0.25
640300.125
4521399.875
