0.25
0
0
-0.25
637300.125
4563399.875
