0.25
0
0
-0.25
619300.125
4533399.875
