0.25
0
0
-0.25
616300.125
4536399.875
