0.25
0
0
-0.25
610300.125
4539399.875
