0.25
0
0
-0.25
607300.125
4515399.875
