0.25
0
0
-0.25
601300.125
4533399.875
