0.25
0
0
-0.25
598300.125
4533399.875
