0.25
0
0
-0.25
595300.125
4512399.875
